BEGIN:VCALENDAR
VERSION:2.0
PRODID:-//ical.marudot.com//iCal Event Maker
CALSCALE:GREGORIAN
BEGIN:VTIMEZONE
TZID:Europe/Istanbul
LAST-MODIFIED:20240422T053451Z
TZURL:https://www.tzurl.org/zoneinfo-outlook/Europe/Istanbul
X-LIC-LOCATION:Europe/Istanbul
BEGIN:STANDARD
TZNAME:+03
TZOFFSETFROM:+0300
TZOFFSETTO:+0300
DTSTART:19700101T000000
END:STANDARD
END:VTIMEZONE
BEGIN:VEVENT
DTSTAMP:20250127T082136Z
UID:1737966034276-41258@ical.marudot.com
DTSTART;TZID=Europe/Istanbul:20250227T143000
DTEND;TZID=Europe/Istanbul:20250227T153000
SUMMARY:SOA People | Ready4 Asset Management Webinarı
URL:https://jakomeet.com/soapeople/r4am-webinari/login.php
BEGIN:VALARM
ACTION:DISPLAY
DESCRIPTION:SOA People | Ready4 Asset Management Webinarı
TRIGGER:-PT5M
END:VALARM
END:VEVENT
END:VCALENDAR